BEGIN:VCALENDAR
VERSION:2.0
PRODID:-//Call of the Sea - ECPv6.15.20//NONSGML v1.0//EN
CALSCALE:GREGORIAN
METHOD:PUBLISH
X-WR-CALNAME:Call of the Sea
X-ORIGINAL-URL:https://callofthesea.org
X-WR-CALDESC:Events for Call of the Sea
REFRESH-INTERVAL;VALUE=DURATION:PT1H
X-Robots-Tag:noindex
X-PUBLISHED-TTL:PT1H
BEGIN:VTIMEZONE
TZID:America/Los_Angeles
BEGIN:DAYLIGHT
TZOFFSETFROM:-0800
TZOFFSETTO:-0700
TZNAME:PDT
DTSTART:20250309T100000
END:DAYLIGHT
BEGIN:STANDARD
TZOFFSETFROM:-0700
TZOFFSETTO:-0800
TZNAME:PST
DTSTART:20251102T090000
END:STANDARD
BEGIN:DAYLIGHT
TZOFFSETFROM:-0800
TZOFFSETTO:-0700
TZNAME:PDT
DTSTART:20260308T100000
END:DAYLIGHT
BEGIN:STANDARD
TZOFFSETFROM:-0700
TZOFFSETTO:-0800
TZNAME:PST
DTSTART:20261101T090000
END:STANDARD
BEGIN:DAYLIGHT
TZOFFSETFROM:-0800
TZOFFSETTO:-0700
TZNAME:PDT
DTSTART:20270314T100000
END:DAYLIGHT
BEGIN:STANDARD
TZOFFSETFROM:-0700
TZOFFSETTO:-0800
TZNAME:PST
DTSTART:20271107T090000
END:STANDARD
END:VTIMEZONE
BEGIN:VEVENT
DTSTART;TZID=America/Los_Angeles:20260611T080000
DTEND;TZID=America/Los_Angeles:20260613T160000
DTSTAMP:20260421T051149
CREATED:20260413T160632Z
LAST-MODIFIED:20260413T160632Z
UID:119595-1781164800-1781366400@callofthesea.org
SUMMARY:Drakes Bay Voyage
DESCRIPTION:Gain confidence on a challenging adventure\nLearn tall ship sailing skills:  climbing aloft\, line handling and coiling\, knots\, teamwork on deck\nStudy marine science:  observe marine wildlife in the Gulf of the Farallones\n\n\n	\n		Share This Post\n		FacebookTwitterRedditEmail
URL:https://callofthesea.org/event/drakes-bay-voyage/
LOCATION:Bay Model Visitors Center\, 2100 Bridgeway\, Sausalito\, CA 94965\, Sausalito\, CA\, 94965\, US
ATTACH;FMTTYPE=image/jpeg:https://callofthesea.org/wp-content/uploads/2026/04/PXL_20250831_013808588-scaled-e1775758514320.jpg
END:VEVENT
BEGIN:VEVENT
DTSTART;TZID=America/Los_Angeles:20260619T160000
DTEND;TZID=America/Los_Angeles:20260620T110000
DTSTAMP:20260421T051149
CREATED:20260413T161054Z
LAST-MODIFIED:20260413T161054Z
UID:119596-1781884800-1781953200@callofthesea.org
SUMMARY:SF Bay Overnight
DESCRIPTION: Imagine yourself on board a traditional tall ship\, anchored in calm waters after a sunset sail on San Francisco Bay\, enjoying the idyllic scenery and a hearty meal with fellow passengers. You can listen to after dinner stories from the captain and crew about the life of a professional tall ship sailor aboard a working ship\, practice knot tying or just relax with a good book. Enjoy stargazing at night before falling asleep to the gentle rocking and soothing sounds of a ship at anchor. \n\n	\n		Share This Post\n		FacebookTwitterRedditEmail
URL:https://callofthesea.org/event/sf-bay-overnight/
LOCATION:Bay Model Visitors Center\, 2100 Bridgeway\, Sausalito\, CA 94965\, Sausalito\, CA\, 94965\, US
ATTACH;FMTTYPE=image/jpeg:https://callofthesea.org/wp-content/uploads/2026/02/IMG_8828-scaled.jpg
END:VEVENT
BEGIN:VEVENT
DTSTART;TZID=America/Los_Angeles:20260621T100000
DTEND;TZID=America/Los_Angeles:20260621T123000
DTSTAMP:20260421T051149
CREATED:20260219T220452Z
LAST-MODIFIED:20260219T232201Z
UID:119503-1782036000-1782045000@callofthesea.org
SUMMARY:Father's Day Sail on brigantine Matthew Turner
DESCRIPTION:  \n  \n  \n  \n\n	\n		Share This Post\n		FacebookTwitterRedditEmail
URL:https://callofthesea.org/event/fathers-day-sail-on-brigantine-matthew-turner/
LOCATION:Bay Model Visitors Center\, 2100 Bridgeway\, Sausalito\, CA 94965\, Sausalito\, CA\, 94965\, US
CATEGORIES:Day Sail
ATTACH;FMTTYPE=image/jpeg:https://callofthesea.org/wp-content/uploads/2025/07/493746542_9658224650920900_6421118631919990649_n-e1751499049841.jpg
END:VEVENT
BEGIN:VEVENT
DTSTART;TZID=America/Los_Angeles:20260626T180000
DTEND;TZID=America/Los_Angeles:20260626T203000
DTSTAMP:20260421T051149
CREATED:20260219T220656Z
LAST-MODIFIED:20260317T182704Z
UID:119517-1782496800-1782505800@callofthesea.org
SUMMARY:Sunset Sail on brigantine Matthew Turner
DESCRIPTION:  \n  \n  \n  \n\n	\n		Share This Post\n		FacebookTwitterRedditEmail
URL:https://callofthesea.org/event/sunset-sail-on-brigantine-matthew-turner-6-12-26/
LOCATION:Bay Model Visitors Center\, 2100 Bridgeway\, Sausalito\, CA 94965\, Sausalito\, CA\, 94965\, US
CATEGORIES:Day Sail
ATTACH;FMTTYPE=image/jpeg:https://callofthesea.org/wp-content/uploads/2026/02/Marcia-Eldridge-image-e1771543471369.jpg
END:VEVENT
BEGIN:VEVENT
DTSTART;TZID=America/Los_Angeles:20260704T153000
DTEND;TZID=America/Los_Angeles:20260704T180000
DTSTAMP:20260421T051149
CREATED:20260330T210902Z
LAST-MODIFIED:20260330T210902Z
UID:119573-1783179000-1783188000@callofthesea.org
SUMMARY:Independence Day Sail
DESCRIPTION:Share This Post\n		FacebookTwitterRedditEmail
URL:https://callofthesea.org/event/independence-day-sail/
LOCATION:Bay Model Visitors Center\, 2100 Bridgeway\, Sausalito\, CA 94965\, Sausalito\, CA\, 94965\, US
ATTACH;FMTTYPE=image/jpeg:https://callofthesea.org/wp-content/uploads/2026/02/Matt20Turner20201018-098-scaled-e1771543788195.jpg
END:VEVENT
BEGIN:VEVENT
DTSTART;TZID=America/Los_Angeles:20260704T191500
DTEND;TZID=America/Los_Angeles:20260704T221500
DTSTAMP:20260421T051149
CREATED:20260330T211340Z
LAST-MODIFIED:20260330T212540Z
UID:119574-1783192500-1783203300@callofthesea.org
SUMMARY:Fourth of July Fireworks Sail
DESCRIPTION:Share This Post\n		FacebookTwitterRedditEmail
URL:https://callofthesea.org/event/fourth-of-july-fireworks-sail/
LOCATION:Bay Model Visitors Center\, 2100 Bridgeway\, Sausalito\, CA 94965\, Sausalito\, CA\, 94965\, US
ATTACH;FMTTYPE=image/png:https://callofthesea.org/wp-content/uploads/2026/03/Copy-of-Fireworks-sail-event-image-e1774905201563.png
END:VEVENT
BEGIN:VEVENT
DTSTART;TZID=America/Los_Angeles:20260710T180000
DTEND;TZID=America/Los_Angeles:20260710T203000
DTSTAMP:20260421T051149
CREATED:20260330T212916Z
LAST-MODIFIED:20260330T212916Z
UID:119576-1783706400-1783715400@callofthesea.org
SUMMARY:Sunset Sail on brigantine Matthew Turner
DESCRIPTION:Share This Post\n		FacebookTwitterRedditEmail
URL:https://callofthesea.org/event/sunset-sail-on-brigantine-matthew-turner-2/
LOCATION:Bay Model Visitors Center\, 2100 Bridgeway\, Sausalito\, CA 94965\, Sausalito\, CA\, 94965\, US
ATTACH;FMTTYPE=image/jpeg:https://callofthesea.org/wp-content/uploads/2026/02/Marcia-Eldridge-image-e1771543471369.jpg
END:VEVENT
BEGIN:VEVENT
DTSTART;TZID=America/Los_Angeles:20260712T150000
DTEND;TZID=America/Los_Angeles:20260712T180000
DTSTAMP:20260421T051149
CREATED:20260330T231038Z
LAST-MODIFIED:20260330T231038Z
UID:119578-1783868400-1783879200@callofthesea.org
SUMMARY:SF Bay Sail on brigantine Matthew Turner
DESCRIPTION:San Francisco Bay Sail on brigantine Matthew Turner\n	\n		Share This Post\n		FacebookTwitterRedditEmail
URL:https://callofthesea.org/event/sf-bay-sail-on-brigantine-matthew-turner/
LOCATION:Bay Model Visitors Center\, 2100 Bridgeway\, Sausalito\, CA 94965\, Sausalito\, CA\, 94965\, US
ATTACH;FMTTYPE=image/jpeg:https://callofthesea.org/wp-content/uploads/2025/05/500156877_10163554381643833_670688010884975142_n-e1748383198461.jpg
END:VEVENT
BEGIN:VEVENT
DTSTART;TZID=America/Los_Angeles:20260724T180000
DTEND;TZID=America/Los_Angeles:20260724T203000
DTSTAMP:20260421T051149
CREATED:20260330T230734Z
LAST-MODIFIED:20260330T230734Z
UID:119577-1784916000-1784925000@callofthesea.org
SUMMARY:Sunset Sail on brigantine Matthew Turner
DESCRIPTION:Share This Post\n		FacebookTwitterRedditEmail
URL:https://callofthesea.org/event/sunset-sail-on-brigantine-matthew-turner-3/
LOCATION:Bay Model Visitors Center\, 2100 Bridgeway\, Sausalito\, CA 94965\, Sausalito\, CA\, 94965\, US
ATTACH;FMTTYPE=image/jpeg:https://callofthesea.org/wp-content/uploads/2026/02/MT-sunset-sail-37-e1774906228823.jpg
END:VEVENT
BEGIN:VEVENT
DTSTART;TZID=America/Los_Angeles:20260808T160000
DTEND;TZID=America/Los_Angeles:20260809T110000
DTSTAMP:20260421T051149
CREATED:20260413T161427Z
LAST-MODIFIED:20260413T161427Z
UID:119597-1786204800-1786273200@callofthesea.org
SUMMARY:SF Bay Overnight
DESCRIPTION: Imagine yourself on board a traditional tall ship\, anchored in calm waters after a sunset sail on San Francisco Bay\, enjoying the idyllic scenery and a hearty meal with fellow passengers. You can listen to after dinner stories from the captain and crew about the life of a professional tall ship sailor aboard a working ship\, practice knot tying or just relax with a good book. Enjoy stargazing at night before falling asleep to the gentle rocking and soothing sounds of a ship at anchor. \n\n	\n		Share This Post\n		FacebookTwitterRedditEmail
URL:https://callofthesea.org/event/sf-bay-overnight-2/
LOCATION:Bay Model Visitors Center\, 2100 Bridgeway\, Sausalito\, CA 94965\, Sausalito\, CA\, 94965\, US
ATTACH;FMTTYPE=image/jpeg:https://callofthesea.org/wp-content/uploads/2026/02/IMG_8828-scaled.jpg
END:VEVENT
BEGIN:VEVENT
DTSTART;TZID=America/Los_Angeles:20260825T080000
DTEND;TZID=America/Los_Angeles:20260829T160000
DTSTAMP:20260421T051149
CREATED:20260413T161740Z
LAST-MODIFIED:20260413T161740Z
UID:119598-1787644800-1788019200@callofthesea.org
SUMMARY:Gulf of the Farallones Voyage
DESCRIPTION:Gain confidence on a challenging adventure\nLearn tall ship sailing skills:  climbing aloft\, line handling and coiling\, knots\, teamwork on deck\nStudy marine science:  observe marine wildlife in the Gulf of the Farallones\n\n\n	\n		Share This Post\n		FacebookTwitterRedditEmail
URL:https://callofthesea.org/event/gulf-of-the-farallones-voyage/
LOCATION:Bay Model Visitors Center\, 2100 Bridgeway\, Sausalito\, CA 94965\, Sausalito\, CA\, 94965\, US
ATTACH;FMTTYPE=image/jpeg:https://callofthesea.org/wp-content/uploads/2024/11/20240719_133946-1-scaled-e1732051342607.jpg
END:VEVENT
BEGIN:VEVENT
DTSTART;TZID=America/Los_Angeles:20260919T093000
DTEND;TZID=America/Los_Angeles:20260919T140000
DTSTAMP:20260421T051149
CREATED:20260219T220456Z
LAST-MODIFIED:20260219T225628Z
UID:119509-1789810200-1789826400@callofthesea.org
SUMMARY:SEAS: Science\, Engineering\, Art and Sailing!
DESCRIPTION:  \n  \n  \n  \n\n	\n		Share This Post\n		FacebookTwitterRedditEmail
URL:https://callofthesea.org/event/seas-science-engineering-art-and-sailing-educational-program-and-sail-9-19-26/
LOCATION:Bay Model Visitors Center\, 2100 Bridgeway\, Sausalito\, CA 94965\, Sausalito\, CA\, 94965\, US
CATEGORIES:Youth Program
ATTACH;FMTTYPE=image/jpeg:https://callofthesea.org/wp-content/uploads/2025/07/IMG_7047-scaled-e1771541387909.jpg
END:VEVENT
END:VCALENDAR